Workbook

Sheet はじめにご覧ください
A1: ◇入力（作表）の順序について◇
B3: まずは、予算書のシートに入力してください。
B4: 次に「①基礎情報⇒②所要額見込調書（その２）⇒③所要額見込調書（その１）」の順で入力します。
B5: 申請書は自動計算されるため入力は不要です。
A8: ◇補助金算定及び入力上の留意点◇
A10: 「②所要額見込調書（その２）」
B11: 入居者ごとに作成します。 現在の入居者が年度末まで利用するという見込みで作成してください。
B12: （注）野田市が援護する入居者のみ作成してください。
B15: （その２）
B16: 対象者の内訳 | F16: 受給者番号 | G16: 1220800001
F17: 障がい者等の氏名 | G17: 松竹 梅子 | H17: 区分 | I17: 3 | J17: 番号 | K17: 1
J19: （単位 円）
G20: 一人当たりの報酬の額
B21: 利用月 | C21: 利用日数 | D21: 障害支援 | E21: 入居定員 | F21: 人員配置 | G21: 報酬月額 | H21: aのうち | I21: 一人当たりの | K21: 一人当たりの
D22: 区分 | F22: 体制加算 | H22: 共同生活援助サービス費、人員配置体制加算、入院時支援特別加算、長期入院時支援特別加算、帰宅時支援加算及び長期帰宅時支援加算の額（小数点以下切り捨て） | I22: 補助基準月額 | K22: 補助基準額
G28: a | H28: ｂ | I28: ｃ | K28: (ｃ-ｂ) ｄ
B29: ４月 | C29: 30 | D29: 3 | E29: 4 | F29: １２：１ | G29: 140107 | H29: 117585 | J29: 127000
B30: ５月 | C30: 31 | D30: 3 | E30: 4 | F30: １２：１ | G30: 170488 | H30: 121505 | J30: 127000
B31: ６月 | C31: 30 | D31: 3 | E31: 4 | F31: １２：１ | G31: 167323 | H31: 117585 | J31: 127000
B32: ７月 | C32: 31 | D32: 3 | E32: 4 | F32: １２：１ | G32: 172899 | H32: 121505 | J32: 127000
B33: ８月 | C33: 31 | D33: 3 | E33: 4 | F33: １２：１ | G33: 172899 | H33: 121505 | J33: 127000
B34: ９月 | C34: 30 | D34: 3 | E34: 4 | F34: １２：１ | G34: 167323 | H34: 117585 | J34: 127000
B35: １０月 | C35: 31 | D35: 3 | E35: 4 | F35: １２：１ | G35: 172899 | H35: 121505 | J35: 127000
B36: １１月 | C36: 30 | D36: 3 | E36: 4 | F36: １２：１ | G36: 167323 | H36: 117585 | J36: 127000
B37: １２月 | C37: 31 | D37: 3 | E37: 4 | F37: １２：１ | G37: 172899 | H37: 121505 | J37: 127000
B38: １月 | C38: 31 | D38: 3 | E38: 4 | F38: １２：１ | G38: 181021 | H38: 121505 | J38: 127000
B39: ２月 | C39: 29 | D39: 3 | E39: 4 | F39: １２：１ | G39: 161749 | H39: 109746 | J39: 127000
B40: ３月 | C40: 31 | D40: 3 | E40: 4 | F40: １２：１ | G40: 172899 | H40: 121505 | J40: 127000
B41: 合計 | G41: =SUM(G29:G40) -> 2019829 | H41: =SUM(H29:H40) -> 1430621 | J41: =SUM(J29:J40) -> 1524000 | K41: =J41-H41 -> 93379
B45: ※1 利用日数
B46: 本体給付を算定した日です。入院・帰省加算の対象となる日は除きます。
B48: ※2 入居定員
B49: 住居での定員数を入力してください（実際の利用者数ではありません）。
B50: なお、月の途中で定員等が変更となった場合は、その月の初日の定員等を入力してください。
B52: ※3 人員配置体制加算
B53: 当該加算について、１２：１の場合「１２」、３０：１の場合「３０」、当加算がない場合は「なし」と入力してください。
B55: ※4 報酬月額
B56: 毎月国保連システムを経由する介護給付費・訓練等給付費の額（利用者負担控除前）を入力してください。
B57: （各種加算・事業運営安定化加算含む。）
B59: ※5 aのうち共同生活介護サービス費等の額
B60: 運営費補助では、共同生活援助サービス費、人員配置体制加算、入院時支援加算、帰宅時支援加算は補助基準額から控除します。
... B65: 注２ 「一人当たりの補助基準月額」から以下の給付額を除いたものが、「一人当たりの補助基準額」となります。
C66: ・共同生活援助サービス費 | F66: ・帰宅時支援加算
C67: ・入院時支援特別加算 | F67: ・長期帰宅時支援加算
C68: ・長期入院時支援特別加算 | F68: ・人員配置体制加算
B69: 注３ 入退去や長期入院等で利用日数が減る場合、月毎に補助基準月額を日割計算し、小数点第３位を切り捨てて算出した金額を入力
B70: してください。（例：8月13日に退去した場合、8月は13日÷31日＝0.419⇒0.41を補助基準月額に乗じた金額を入力。）
B71: 注４ 入居者の障害支援区分が月の途中で変更となった場合、当該月の初日の障害支援区分を適用します。
A73: 「③所要額見込調書（その１）」
B74: 当該ホームの補助金額を算出するシートです。
D79: 運営費補助金所要額見込調書
B80: （その１）
G81: 施設の名称 （見本 グループホーム江戸川）
H83: （単位 円）
D84: 一人当たりの | H84: 補助金の額（D
B85: 番号 | C85: 一人当たりの | D85: 寄付金その他 | E85: 一人当たりの | F85: 差引額 | G85: 一人当たりの | H85: とEを比較して | I85: 備考
C86: 補助対象経費 | D86: の収入予定額 | E86: 報酬の予定額 | F86: （A－B－C) | G86: 補助基準額 | H86: 少ない方の額）
C87: A | D87: B | E87: C | F87: D | G87: E | H87: F
B88: 1 | C88: 2200000 | D88: 30000 | E88: 2019829 | F88: =C88-D88-E88 -> 150171 | G88: 93379 | H88: 93379
B89: 2
B90: 3
B91: 4
B92: 5
B93: 6
B94: 7
B95: 合計 | H95: 93379
B99: ※1 一人当たりの補助対象経費
B100: （１）利用者個人別に経費を算出することができる場合
B101: 当該利用者ごとに運営に要する人件費、事業費、事務費等から入居者が負担する家賃、食材費、光熱水費その他の経費を除いた額を
B102: 入力します。
B103: （２）利用者個人別に経費を算出することができない場合
B104: 決算見込書の歳出合計額から歳入に計上した利用者負担分を差し引き、利用者数で除した額を一人当たりの経費として入力します。
B105: ※他市町村の支給決定を受けている入居者がいる場合には、野田市の支給決定を受けている入居者分を按分して算出してください。
B107: ※2 一人当たりの寄付金その他の収入額
B108: ここでは、個人や他の自治体や民間団体からの補助金や、個人からの寄付金があった場合に、その額を入力します。
B111: ※3 差引額
B112: 自動計算が設定されています。計算の結果、マイナスになる場合は０円になります。
B115: ※4 一人当たりの補助基準額
... B117: この補助金は、利用者ごとに算定することから、マイナスになった利用者分を他の利用者分との相殺はしません。

Sheet 提出書類確認票
A1: 提出書類 | B1: 確認 ○を付けてください
A2: 野田市障がい者等グループホーム運営費補助金交付申請書
A3: 運営費補助金所要額見込調書〔その1〕
A4: 運営費補助金所要額見込調書〔その2〕
A5: 令和８年度収支予算書抄本 （グループホームごとに作成）
A6: 令和８年度事業計画書
A8: ※前年度に補助金の交付を受けた事業者は以下の書類も提出
A9: 提出書類 〔総会で承認を受けたもの〕 | B9: 確認 ○を付けてください
A10: 令和７年度事業実績報告書
A11: 令和７年度歳入歳出決算書抄本
A12: 令和７年度監査報告書

Sheet ①基礎情報
A2: 野田市障がい者等グループホーム運営費補助金
A3: 野田市障がい者グループホーム等運営事業補助金
C5: の入力箇所に入力してください。（見本）入力済みのため、上書きしてください。
B7: １．申請者
B8: （１）所在地
B9: （２）法人名
B10: （３）代表者 職・氏名
B12: ２．施設の名称
B13: グループホーム等の名称

Sheet ②所要額見込調書（その2）
A2: （その２）
A3: 対象者の内訳 | F3: 受給者番号
F4: 障がい者等の氏名 | H4: 区分 | J4: 番号 | K4: 1
J6: （単位 円）
F7: 一人当たりの報酬の額
A8: 利用月 | B8: 利用日数 | C8: 障害支援 | D8: 入居定員 | E8: 人員配置 | F8: 報酬月額 | G8: aのうち | H8: 一人当たりの | J8: bを除いた
C9: 区分 | E9: 体制加算 | G9: 共同生活援助サービス費、人員配置体制加算、入院時支援特別加算、長期入院時支援特別加算、帰宅時支援加算及び長期帰宅時支援加算の額（小数点以下切り捨て） | H9: 補助基準月額 | J9: 補助基準額
F15: a | G15: ｂ | I15: ｃ | K15: (ｃ-ｂ) ｄ
A16: 4 | I16: =IFERROR(VLOOKUP(N:N,補助基準額リスト!D:E,2,0),"") | L16: =IFERROR(IF(C16=1,1,IF(C16=2,2,IF(C16=3,3,IF(C16=4,4,IF(C16=5,5,IF(C16=6,6,IF(C16="なし",0,""))))))),) | M16: =IFERROR(IF(E16=12,12,IF(E16=30,30,IF(E16="なし",0,""))),) | N16: =IFERROR(L16&D16&M16,"")
A17: 5 | I17: =IFERROR(VLOOKUP(N:N,補助基準額リスト!D:E,2,0),"") | L17: =IFERROR(IF(C17=1,1,IF(C17=2,2,IF(C17=3,3,IF(C17=4,4,IF(C17=5,5,IF(C17=6,6,IF(C17="なし",0,""))))))),) | M17: =IFERROR(IF(E17=12,12,IF(E17=30,30,IF(E17="なし",0,""))),) | N17: =IFERROR(L17&D17&M17,"")
A18: 6 | I18: =IFERROR(VLOOKUP(N:N,補助基準額リスト!D:E,2,0),"") | L18: =IFERROR(IF(C18=1,1,IF(C18=2,2,IF(C18=3,3,IF(C18=4,4,IF(C18=5,5,IF(C18=6,6,IF(C18="なし",0,""))))))),) | M18: =IFERROR(IF(E18=12,12,IF(E18=30,30,IF(E18="なし",0,""))),) | N18: =IFERROR(L18&D18&M18,"")
A19: 7 | I19: =IFERROR(VLOOKUP(N:N,補助基準額リスト!D:E,2,0),"") | L19: =IFERROR(IF(C19=1,1,IF(C19=2,2,IF(C19=3,3,IF(C19=4,4,IF(C19=5,5,IF(C19=6,6,IF(C19="なし",0,""))))))),) | M19: =IFERROR(IF(E19=12,12,IF(E19=30,30,IF(E19="なし",0,""))),) | N19: =IFERROR(L19&D19&M19,"")
A20: 8 | I20: =IFERROR(VLOOKUP(N:N,補助基準額リスト!D:E,2,0),"") | L20: =IFERROR(IF(C20=1,1,IF(C20=2,2,IF(C20=3,3,IF(C20=4,4,IF(C20=5,5,IF(C20=6,6,IF(C20="なし",0,""))))))),) | M20: =IFERROR(IF(E20=12,12,IF(E20=30,30,IF(E20="なし",0,""))),) | N20: =IFERROR(L20&D20&M20,"")
A21: 9 | I21: =IFERROR(VLOOKUP(N:N,補助基準額リスト!D:E,2,0),"") | L21: =IFERROR(IF(C21=1,1,IF(C21=2,2,IF(C21=3,3,IF(C21=4,4,IF(C21=5,5,IF(C21=6,6,IF(C21="なし",0,""))))))),) | M21: =IFERROR(IF(E21=12,12,IF(E21=30,30,IF(E21="なし",0,""))),) | N21: =IFERROR(L21&D21&M21,"")
A22: 10 | I22: =IFERROR(VLOOKUP(N:N,補助基準額リスト!D:E,2,0),"") | L22: =IFERROR(IF(C22=1,1,IF(C22=2,2,IF(C22=3,3,IF(C22=4,4,IF(C22=5,5,IF(C22=6,6,IF(C22="なし",0,""))))))),) | M22: =IFERROR(IF(E22=12,12,IF(E22=30,30,IF(E22="なし",0,""))),) | N22: =IFERROR(L22&D22&M22,"")
A23: 11 | I23: =IFERROR(VLOOKUP(N:N,補助基準額リスト!D:E,2,0),"") | L23: =IFERROR(IF(C23=1,1,IF(C23=2,2,IF(C23=3,3,IF(C23=4,4,IF(C23=5,5,IF(C23=6,6,IF(C23="なし",0,""))))))),) | M23: =IFERROR(IF(E23=12,12,IF(E23=30,30,IF(E23="なし",0,""))),) | N23: =IFERROR(L23&D23&M23,"")
A24: 12 | I24: =IFERROR(VLOOKUP(N:N,補助基準額リスト!D:E,2,0),"") | L24: =IFERROR(IF(C24=1,1,IF(C24=2,2,IF(C24=3,3,IF(C24=4,4,IF(C24=5,5,IF(C24=6,6,IF(C24="なし",0,""))))))),) | M24: =IFERROR(IF(E24=12,12,IF(E24=30,30,IF(E24="なし",0,""))),) | N24: =IFERROR(L24&D24&M24,"")
A25: 1 | I25: =IFERROR(VLOOKUP(N:N,補助基準額リスト!D:E,2,0),"") | L25: =IFERROR(IF(C25=1,1,IF(C25=2,2,IF(C25=3,3,IF(C25=4,4,IF(C25=5,5,IF(C25=6,6,IF(C25="なし",0,""))))))),) | M25: =IFERROR(IF(E25=12,12,IF(E25=30,30,IF(E25="なし",0,""))),) | N25: =IFERROR(L25&D25&M25,"")
A26: 2 | I26: =IFERROR(VLOOKUP(N:N,補助基準額リスト!D:E,2,0),"") | L26: =IFERROR(IF(C26=1,1,IF(C26=2,2,IF(C26=3,3,IF(C26=4,4,IF(C26=5,5,IF(C26=6,6,IF(C26="なし",0,""))))))),) | M26: =IFERROR(IF(E26=12,12,IF(E26=30,30,IF(E26="なし",0,""))),) | N26: =IFERROR(L26&D26&M26,"")
A27: 3 | I27: =IFERROR(VLOOKUP(N:N,補助基準額リスト!D:E,2,0),"") | L27: =IFERROR(IF(C27=1,1,IF(C27=2,2,IF(C27=3,3,IF(C27=4,4,IF(C27=5,5,IF(C27=6,6,IF(C27="なし",0,""))))))),) | M27: =IFERROR(IF(E27=12,12,IF(E27=30,30,IF(E27="なし",0,""))),) | N27: =IFERROR(L27&D27&M27,"")
A28: 合計 | F28: =SUM(F16:F27) -> 0 | G28: =SUM(G16:G27) -> 0 | I28: =SUM(I16:I27) -> 0 | K28: =I28-G28 -> 0
A32: （その２）
A33: 対象者の内訳 | F33: 受給者番号
F34: 障がい者等の氏名 | H34: 区分 | J34: 番号 | K34: 2
J36: （単位 円）
F37: 一人当たりの報酬の額
A38: 利用月 | B38: 利用日数 | C38: 障害支援 | D38: 入居定員 | E38: 人員配置 | F38: 報酬月額 | G38: aのうち | H38: 一人当たりの | J38: bを除いた
C39: 区分 | E39: 体制加算 | G39: 共同生活援助サービス費、人員配置体制加算、入院時支援特別加算、長期入院時支援特別加算、帰宅時支援加算及び長期帰宅時支援加算の額（小数点以下切り捨て） | H39: 補助基準月額 | J39: 補助基準額
F45: a | G45: ｂ | I45: ｃ | K45: (ｃ-ｂ) ｄ
A46: 4 | I46: =IFERROR(VLOOKUP(N:N,補助基準額リスト!D:E,2,0),"") | L46: =IFERROR(IF(C46=1,1,IF(C46=2,2,IF(C46=3,3,IF(C46=4,4,IF(C46=5,5,IF(C46=6,6,IF(C46="なし",0,""))))))),) | M46: =IFERROR(IF(E46=12,12,IF(E46=30,30,IF(E46="なし",0,""))),) | N46: =IFERROR(L46&D46&M46,"")
A47: 5 | I47: =IFERROR(VLOOKUP(N:N,補助基準額リスト!D:E,2,0),"") | L47: =IFERROR(IF(C47=1,1,IF(C47=2,2,IF(C47=3,3,IF(C47=4,4,IF(C47=5,5,IF(C47=6,6,IF(C47="なし",0,""))))))),) | M47: =IFERROR(IF(E47=12,12,IF(E47=30,30,IF(E47="なし",0,""))),) | N47: =IFERROR(L47&D47&M47,"")
A48: 6 | I48: =IFERROR(VLOOKUP(N:N,補助基準額リスト!D:E,2,0),"") | L48: =IFERROR(IF(C48=1,1,IF(C48=2,2,IF(C48=3,3,IF(C48=4,4,IF(C48=5,5,IF(C48=6,6,IF(C48="なし",0,""))))))),) | M48: =IFERROR(IF(E48=12,12,IF(E48=30,30,IF(E48="なし",0,""))),) | N48: =IFERROR(L48&D48&M48,"")
A49: 7 | I49: =IFERROR(VLOOKUP(N:N,補助基準額リスト!D:E,2,0),"") | L49: =IFERROR(IF(C49=1,1,IF(C49=2,2,IF(C49=3,3,IF(C49=4,4,IF(C49=5,5,IF(C49=6,6,IF(C49="なし",0,""))))))),) | M49: =IFERROR(IF(E49=12,12,IF(E49=30,30,IF(E49="なし",0,""))),) | N49: =IFERROR(L49&D49&M49,"")
A50: 8 | I50: =IFERROR(VLOOKUP(N:N,補助基準額リスト!D:E,2,0),"") | L50: =IFERROR(IF(C50=1,1,IF(C50=2,2,IF(C50=3,3,IF(C50=4,4,IF(C50=5,5,IF(C50=6,6,IF(C50="なし",0,""))))))),) | M50: =IFERROR(IF(E50=12,12,IF(E50=30,30,IF(E50="なし",0,""))),) | N50: =IFERROR(L50&D50&M50,"")
A51: 9 | I51: =IFERROR(VLOOKUP(N:N,補助基準額リスト!D:E,2,0),"") | L51: =IFERROR(IF(C51=1,1,IF(C51=2,2,IF(C51=3,3,IF(C51=4,4,IF(C51=5,5,IF(C51=6,6,IF(C51="なし",0,""))))))),) | M51: =IFERROR(IF(E51=12,12,IF(E51=30,30,IF(E51="なし",0,""))),) | N51: =IFERROR(L51&D51&M51,"")
A52: 10 | I52: =IFERROR(VLOOKUP(N:N,補助基準額リスト!D:E,2,0),"") | L52: =IFERROR(IF(C52=1,1,IF(C52=2,2,IF(C52=3,3,IF(C52=4,4,IF(C52=5,5,IF(C52=6,6,IF(C52="なし",0,""))))))),) | M52: =IFERROR(IF(E52=12,12,IF(E52=30,30,IF(E52="なし",0,""))),) | N52: =IFERROR(L52&D52&M52,"")
A53: 11 | I53: =IFERROR(VLOOKUP(N:N,補助基準額リスト!D:E,2,0),"") | L53: =IFERROR(IF(C53=1,1,IF(C53=2,2,IF(C53=3,3,IF(C53=4,4,IF(C53=5,5,IF(C53=6,6,IF(C53="なし",0,""))))))),) | M53: =IFERROR(IF(E53=12,12,IF(E53=30,30,IF(E53="なし",0,""))),) | N53: =IFERROR(L53&D53&M53,"")
A54: 12 | I54: =IFERROR(VLOOKUP(N:N,補助基準額リスト!D:E,2,0),"") | L54: =IFERROR(IF(C54=1,1,IF(C54=2,2,IF(C54=3,3,IF(C54=4,4,IF(C54=5,5,IF(C54=6,6,IF(C54="なし",0,""))))))),) | M54: =IFERROR(IF(E54=12,12,IF(E54=30,30,IF(E54="なし",0,""))),) | N54: =IFERROR(L54&D54&M54,"")
A55: 1 | I55: =IFERROR(VLOOKUP(N:N,補助基準額リスト!D:E,2,0),"") | L55: =IFERROR(IF(C55=1,1,IF(C55=2,2,IF(C55=3,3,IF(C55=4,4,IF(C55=5,5,IF(C55=6,6,IF(C55="なし",0,""))))))),) | M55: =IFERROR(IF(E55=12,12,IF(E55=30,30,IF(E55="なし",0,""))),) | N55: =IFERROR(L55&D55&M55,"")
A56: 2 | I56: =IFERROR(VLOOKUP(N:N,補助基準額リスト!D:E,2,0),"") | L56: =IFERROR(IF(C56=1,1,IF(C56=2,2,IF(C56=3,3,IF(C56=4,4,IF(C56=5,5,IF(C56=6,6,IF(C56="なし",0,""))))))),) | M56: =IFERROR(IF(E56=12,12,IF(E56=30,30,IF(E56="なし",0,""))),) | N56: =IFERROR(L56&D56&M56,"")
A57: 3 | I57: =IFERROR(VLOOKUP(N:N,補助基準額リスト!D:E,2,0),"") | L57: =IFERROR(IF(C57=1,1,IF(C57=2,2,IF(C57=3,3,IF(C57=4,4,IF(C57=5,5,IF(C57=6,6,IF(C57="なし",0,""))))))),) | M57: =IFERROR(IF(E57=12,12,IF(E57=30,30,IF(E57="なし",0,""))),) | N57: =IFERROR(L57&D57&M57,"")
A58: 合計 | F58: =SUM(F46:F57) -> 0 | G58: =SUM(G46:G57) -> 0 | I58: =SUM(I46:I57) -> 0 | K58: =I58-G58 -> 0
A62: （その２）
A63: 対象者の内訳 | F63: 受給者番号
F64: 障がい者等の氏名 | H64: 区分 | J64: 番号 | K64: 3
J66: （単位 円）
F67: 一人当たりの報酬の額
A68: 利用月 | B68: 利用日数 | C68: 障害支援 | D68: 入居定員 | E68: 人員配置 | F68: 報酬月額 | G68: aのうち | H68: 一人当たりの | J68: bを除いた
C69: 区分 | E69: 体制加算 | G69: 共同生活援助サービス費、人員配置体制加算、入院時支援特別加算、長期入院時支援特別加算、帰宅時支援加算及び長期帰宅時支援加算の額（小数点以下切り捨て） | H69: 補助基準月額 | J69: 補助基準額
F75: a | G75: ｂ | I75: ｃ | K75: (ｃ-ｂ) ｄ
A76: 4 | I76: =IFERROR(VLOOKUP(N:N,補助基準額リスト!D:E,2,0),"") | L76: =IFERROR(IF(C76=1,1,IF(C76=2,2,IF(C76=3,3,IF(C76=4,4,IF(C76=5,5,IF(C76=6,6,IF(C76="なし",0,""))))))),) | M76: =IFERROR(IF(E76=12,12,IF(E76=30,30,IF(E76="なし",0,""))),) | N76: =IFERROR(L76&D76&M76,"")
A77: 5 | I77: =IFERROR(VLOOKUP(N:N,補助基準額リスト!D:E,2,0),"") | L77: =IFERROR(IF(C77=1,1,IF(C77=2,2,IF(C77=3,3,IF(C77=4,4,IF(C77=5,5,IF(C77=6,6,IF(C77="なし",0,""))))))),) | M77: =IFERROR(IF(E77=12,12,IF(E77=30,30,IF(E77="なし",0,""))),) | N77: =IFERROR(L77&D77&M77,"")
A78: 6 | I78: =IFERROR(VLOOKUP(N:N,補助基準額リスト!D:E,2,0),"") | L78: =IFERROR(IF(C78=1,1,IF(C78=2,2,IF(C78=3,3,IF(C78=4,4,IF(C78=5,5,IF(C78=6,6,IF(C78="なし",0,""))))))),) | M78: =IFERROR(IF(E78=12,12,IF(E78=30,30,IF(E78="なし",0,""))),) | N78: =IFERROR(L78&D78&M78,"")
A79: 7 | I79: =IFERROR(VLOOKUP(N:N,補助基準額リスト!D:E,2,0),"") | L79: =IFERROR(IF(C79=1,1,IF(C79=2,2,IF(C79=3,3,IF(C79=4,4,IF(C79=5,5,IF(C79=6,6,IF(C79="なし",0,""))))))),) | M79: =IFERROR(IF(E79=12,12,IF(E79=30,30,IF(E79="なし",0,""))),) | N79: =IFERROR(L79&D79&M79,"")
A80: 8 | I80: =IFERROR(VLOOKUP(N:N,補助基準額リスト!D:E,2,0),"") | L80: =IFERROR(IF(C80=1,1,IF(C80=2,2,IF(C80=3,3,IF(C80=4,4,IF(C80=5,5,IF(C80=6,6,IF(C80="なし",0,""))))))),) | M80: =IFERROR(IF(E80=12,12,IF(E80=30,30,IF(E80="なし",0,""))),) | N80: =IFERROR(L80&D80&M80,"")
A81: 9 | I81: =IFERROR(VLOOKUP(N:N,補助基準額リスト!D:E,2,0),"") | L81: =IFERROR(IF(C81=1,1,IF(C81=2,2,IF(C81=3,3,IF(C81=4,4,IF(C81=5,5,IF(C81=6,6,IF(C81="なし",0,""))))))),) | M81: =IFERROR(IF(E81=12,12,IF(E81=30,30,IF(E81="なし",0,""))),) | N81: =IFERROR(L81&D81&M81,"")
A82: 10 | I82: =IFERROR(VLOOKUP(N:N,補助基準額リスト!D:E,2,0),"") | L82: =IFERROR(IF(C82=1,1,IF(C82=2,2,IF(C82=3,3,IF(C82=4,4,IF(C82=5,5,IF(C82=6,6,IF(C82="なし",0,""))))))),) | M82: =IFERROR(IF(E82=12,12,IF(E82=30,30,IF(E82="なし",0,""))),) | N82: =IFERROR(L82&D82&M82,"")
A83: 11 | I83: =IFERROR(VLOOKUP(N:N,補助基準額リスト!D:E,2,0),"") | L83: =IFERROR(IF(C83=1,1,IF(C83=2,2,IF(C83=3,3,IF(C83=4,4,IF(C83=5,5,IF(C83=6,6,IF(C83="なし",0,""))))))),) | M83: =IFERROR(IF(E83=12,12,IF(E83=30,30,IF(E83="なし",0,""))),) | N83: =IFERROR(L83&D83&M83,"")
A84: 12 | I84: =IFERROR(VLOOKUP(N:N,補助基準額リスト!D:E,2,0),"") | L84: =IFERROR(IF(C84=1,1,IF(C84=2,2,IF(C84=3,3,IF(C84=4,4,IF(C84=5,5,IF(C84=6,6,IF(C84="なし",0,""))))))),) | M84: =IFERROR(IF(E84=12,12,IF(E84=30,30,IF(E84="なし",0,""))),) | N84: =IFERROR(L84&D84&M84,"")
A85: 1 | I85: =IFERROR(VLOOKUP(N:N,補助基準額リスト!D:E,2,0),"") | L85: =IFERROR(IF(C85=1,1,IF(C85=2,2,IF(C85=3,3,IF(C85=4,4,IF(C85=5,5,IF(C85=6,6,IF(C85="なし",0,""))))))),) | M85: =IFERROR(IF(E85=12,12,IF(E85=30,30,IF(E85="なし",0,""))),) | N85: =IFERROR(L85&D85&M85,"")
A86: 2 | I86: =IFERROR(VLOOKUP(N:N,補助基準額リスト!D:E,2,0),"") | L86: =IFERROR(IF(C86=1,1,IF(C86=2,2,IF(C86=3,3,IF(C86=4,4,IF(C86=5,5,IF(C86=6,6,IF(C86="なし",0,""))))))),) | M86: =IFERROR(IF(E86=12,12,IF(E86=30,30,IF(E86="なし",0,""))),) | N86: =IFERROR(L86&D86&M86,"")
A87: 3 | I87: =IFERROR(VLOOKUP(N:N,補助基準額リスト!D:E,2,0),"") | L87: =IFERROR(IF(C87=1,1,IF(C87=2,2,IF(C87=3,3,IF(C87=4,4,IF(C87=5,5,IF(C87=6,6,IF(C87="なし",0,""))))))),) | M87: =IFERROR(IF(E87=12,12,IF(E87=30,30,IF(E87="なし",0,""))),) | N87: =IFERROR(L87&D87&M87,"")
A88: 合計 | F88: =SUM(F76:F87) -> 0 | G88: =SUM(G76:G87) -> 0 | I88: =SUM(I76:I87) -> 0 | K88: =I88-G88 -> 0
A92: （その２）
A93: 対象者の内訳 | F93: 受給者番号
F94: 障がい者等の氏名 | H94: 区分 | J94: 番号 | K94: 4
J96: （単位 円）
F97: 一人当たりの報酬の額
A98: 利用月 | B98: 利用日数 | C98: 障害支援 | D98: 入居定員 | E98: 人員配置 | F98: 報酬月額 | G98: aのうち | H98: 一人当たりの | J98: bを除いた
C99: 区分 | E99: 体制加算 | G99: 共同生活援助サービス費、人員配置体制加算、入院時支援特別加算、長期入院時支援特別加算、帰宅時支援加算及び長期帰宅時支援加算の額（小数点以下切り捨て） | H99: 補助基準月額 | J99: 補助基準額
F105: a | G105: ｂ | I105: ｃ | K105: (ｃ-ｂ) ｄ
A106: 4 | I106: =IFERROR(VLOOKUP(N:N,補助基準額リスト!D:E,2,0),"") | L106: =IFERROR(IF(C106=1,1,IF(C106=2,2,IF(C106=3,3,IF(C106=4,4,IF(C106=5,5,IF(C106=6,6,IF(C106="なし",0,""))))))),) | M106: =IFERROR(IF(E106=12,12,IF(E106=30,30,IF(E106="なし",0,""))),) | N106: =IFERROR(L106&D106&M106,"")
A107: 5 | I107: =IFERROR(VLOOKUP(N:N,補助基準額リスト!D:E,2,0),"") | L107: =IFERROR(IF(C107=1,1,IF(C107=2,2,IF(C107=3,3,IF(C107=4,4,IF(C107=5,5,IF(C107=6,6,IF(C107="なし",0,""))))))),) | M107: =IFERROR(IF(E107=12,12,IF(E107=30,30,IF(E107="なし",0,""))),) | N107: =IFERROR(L107&D107&M107,"")
A108: 6 | I108: =IFERROR(VLOOKUP(N:N,補助基準額リスト!D:E,2,0),"") | L108: =IFERROR(IF(C108=1,1,IF(C108=2,2,IF(C108=3,3,IF(C108=4,4,IF(C108=5,5,IF(C108=6,6,IF(C108="なし",0,""))))))),) | M108: =IFERROR(IF(E108=12,12,IF(E108=30,30,IF(E108="なし",0,""))),) | N108: =IFERROR(L108&D108&M108,"")
A109: 7 | I109: =IFERROR(VLOOKUP(N:N,補助基準額リスト!D:E,2,0),"") | L109: =IFERROR(IF(C109=1,1,IF(C109=2,2,IF(C109=3,3,IF(C109=4,4,IF(C109=5,5,IF(C109=6,6,IF(C109="なし",0,""))))))),) | M109: =IFERROR(IF(E109=12,12,IF(E109=30,30,IF(E109="なし",0,""))),) | N109: =IFERROR(L109&D109&M109,"")
A110: 8 | I110: =IFERROR(VLOOKUP(N:N,補助基準額リスト!D:E,2,0),"") | L110: =IFERROR(IF(C110=1,1,IF(C110=2,2,IF(C110=3,3,IF(C110=4,4,IF(C110=5,5,IF(C110=6,6,IF(C110="なし",0,""))))))),) | M110: =IFERROR(IF(E110=12,12,IF(E110=30,30,IF(E110="なし",0,""))),) | N110: =IFERROR(L110&D110&M110,"")
A111: 9 | I111: =IFERROR(VLOOKUP(N:N,補助基準額リスト!D:E,2,0),"") | L111: =IFERROR(IF(C111=1,1,IF(C111=2,2,IF(C111=3,3,IF(C111=4,4,IF(C111=5,5,IF(C111=6,6,IF(C111="なし",0,""))))))),) | M111: =IFERROR(IF(E111=12,12,IF(E111=30,30,IF(E111="なし",0,""))),) | N111: =IFERROR(L111&D111&M111,"")
A112: 10 | I112: =IFERROR(VLOOKUP(N:N,補助基準額リスト!D:E,2,0),"") | L112: =IFERROR(IF(C112=1,1,IF(C112=2,2,IF(C112=3,3,IF(C112=4,4,IF(C112=5,5,IF(C112=6,6,IF(C112="なし",0,""))))))),) | M112: =IFERROR(IF(E112=12,12,IF(E112=30,30,IF(E112="なし",0,""))),) | N112: =IFERROR(L112&D112&M112,"")
A113: 11 | I113: =IFERROR(VLOOKUP(N:N,補助基準額リスト!D:E,2,0),"") | L113: =IFERROR(IF(C113=1,1,IF(C113=2,2,IF(C113=3,3,IF(C113=4,4,IF(C113=5,5,IF(C113=6,6,IF(C113="なし",0,""))))))),) | M113: =IFERROR(IF(E113=12,12,IF(E113=30,30,IF(E113="なし",0,""))),) | N113: =IFERROR(L113&D113&M113,"")
A114: 12 | I114: =IFERROR(VLOOKUP(N:N,補助基準額リスト!D:E,2,0),"") | L114: =IFERROR(IF(C114=1,1,IF(C114=2,2,IF(C114=3,3,IF(C114=4,4,IF(C114=5,5,IF(C114=6,6,IF(C114="なし",0,""))))))),) | M114: =IFERROR(IF(E114=12,12,IF(E114=30,30,IF(E114="なし",0,""))),) | N114: =IFERROR(L114&D114&M114,"")
A115: 1 | I115: =IFERROR(VLOOKUP(N:N,補助基準額リスト!D:E,2,0),"") | L115: =IFERROR(IF(C115=1,1,IF(C115=2,2,IF(C115=3,3,IF(C115=4,4,IF(C115=5,5,IF(C115=6,6,IF(C115="なし",0,""))))))),) | M115: =IFERROR(IF(E115=12,12,IF(E115=30,30,IF(E115="なし",0,""))),) | N115: =IFERROR(L115&D115&M115,"")
A116: 2 | I116: =IFERROR(VLOOKUP(N:N,補助基準額リスト!D:E,2,0),"") | L116: =IFERROR(IF(C116=1,1,IF(C116=2,2,IF(C116=3,3,IF(C116=4,4,IF(C116=5,5,IF(C116=6,6,IF(C116="なし",0,""))))))),) | M116: =IFERROR(IF(E116=12,12,IF(E116=30,30,IF(E116="なし",0,""))),) | N116: =IFERROR(L116&D116&M116,"")
A117: 3 | I117: =IFERROR(VLOOKUP(N:N,補助基準額リスト!D:E,2,0),"") | L117: =IFERROR(IF(C117=1,1,IF(C117=2,2,IF(C117=3,3,IF(C117=4,4,IF(C117=5,5,IF(C117=6,6,IF(C117="なし",0,""))))))),) | M117: =IFERROR(IF(E117=12,12,IF(E117=30,30,IF(E117="なし",0,""))),) | N117: =IFERROR(L117&D117&M117,"")
A118: 合計 | F118: =SUM(F106:F117) -> 0 | G118: =SUM(G106:G117) -> 0 | I118: =SUM(I106:I117) -> 0 | K118: =I118-G118 -> 0
A122: （その２）
A123: 対象者の内訳 | F123: 受給者番号
F124: 障がい者等の氏名 | H124: 区分 | J124: 番号 | K124: 5
J126: （単位 円）
F127: 一人当たりの報酬の額
A128: 利用月 | B128: 利用日数 | C128: 障害支援 | D128: 入居定員 | E128: 人員配置 | F128: 報酬月額 | G128: aのうち | H128: 一人当たりの | J128: bを除いた
C129: 区分 | E129: 体制加算 | G129: 共同生活援助サービス費、人員配置体制加算、入院時支援特別加算、長期入院時支援特別加算、帰宅時支援加算及び長期帰宅時支援加算の額（小数点以下切り捨て） | H129: 補助基準月額 | J129: 補助基準額
F135: a | G135: ｂ | I135: ｃ | K135: (ｃ-ｂ) ｄ
A136: 4 | I136: =IFERROR(VLOOKUP(N:N,補助基準額リスト!D:E,2,0),"") | L136: =IFERROR(IF(C136=1,1,IF(C136=2,2,IF(C136=3,3,IF(C136=4,4,IF(C136=5,5,IF(C136=6,6,IF(C136="なし",0,""))))))),) | M136: =IFERROR(IF(E136=12,12,IF(E136=30,30,IF(E136="なし",0,""))),) | N136: =IFERROR(L136&D136&M136,"")
A137: 5 | I137: =IFERROR(VLOOKUP(N:N,補助基準額リスト!D:E,2,0),"") | L137: =IFERROR(IF(C137=1,1,IF(C137=2,2,IF(C137=3,3,IF(C137=4,4,IF(C137=5,5,IF(C137=6,6,IF(C137="なし",0,""))))))),) | M137: =IFERROR(IF(E137=12,12,IF(E137=30,30,IF(E137="なし",0,""))),) | N137: =IFERROR(L137&D137&M137,"")
A138: 6 | I138: =IFERROR(VLOOKUP(N:N,補助基準額リスト!D:E,2,0),"") | L138: =IFERROR(IF(C138=1,1,IF(C138=2,2,IF(C138=3,3,IF(C138=4,4,IF(C138=5,5,IF(C138=6,6,IF(C138="なし",0,""))))))),) | M138: =IFERROR(IF(E138=12,12,IF(E138=30,30,IF(E138="なし",0,""))),) | N138: =IFERROR(L138&D138&M138,"")
A139: 7 | I139: =IFERROR(VLOOKUP(N:N,補助基準額リスト!D:E,2,0),"") | L139: =IFERROR(IF(C139=1,1,IF(C139=2,2,IF(C139=3,3,IF(C139=4,4,IF(C139=5,5,IF(C139=6,6,IF(C139="なし",0,""))))))),) | M139: =IFERROR(IF(E139=12,12,IF(E139=30,30,IF(E139="なし",0,""))),) | N139: =IFERROR(L139&D139&M139,"")
A140: 8 | I140: =IFERROR(VLOOKUP(N:N,補助基準額リスト!D:E,2,0),"") | L140: =IFERROR(IF(C140=1,1,IF(C140=2,2,IF(C140=3,3,IF(C140=4,4,IF(C140=5,5,IF(C140=6,6,IF(C140="なし",0,""))))))),) | M140: =IFERROR(IF(E140=12,12,IF(E140=30,30,IF(E140="なし",0,""))),) | N140: =IFERROR(L140&D140&M140,"")
A141: 9 | I141: =IFERROR(VLOOKUP(N:N,補助基準額リスト!D:E,2,0),"") | L141: =IFERROR(IF(C141=1,1,IF(C141=2,2,IF(C141=3,3,IF(C141=4,4,IF(C141=5,5,IF(C141=6,6,IF(C141="なし",0,""))))))),) | M141: =IFERROR(IF(E141=12,12,IF(E141=30,30,IF(E141="なし",0,""))),) | N141: =IFERROR(L141&D141&M141,"")
A142: 10 | I142: =IFERROR(VLOOKUP(N:N,補助基準額リスト!D:E,2,0),"") | L142: =IFERROR(IF(C142=1,1,IF(C142=2,2,IF(C142=3,3,IF(C142=4,4,IF(C142=5,5,IF(C142=6,6,IF(C142="なし",0,""))))))),) | M142: =IFERROR(IF(E142=12,12,IF(E142=30,30,IF(E142="なし",0,""))),) | N142: =IFERROR(L142&D142&M142,"")
A143: 11 | I143: =IFERROR(VLOOKUP(N:N,補助基準額リスト!D:E,2,0),"") | L143: =IFERROR(IF(C143=1,1,IF(C143=2,2,IF(C143=3,3,IF(C143=4,4,IF(C143=5,5,IF(C143=6,6,IF(C143="なし",0,""))))))),) | M143: =IFERROR(IF(E143=12,12,IF(E143=30,30,IF(E143="なし",0,""))),) | N143: =IFERROR(L143&D143&M143,"")
...

Sheet ③所要額見込調書（その１）
C3: 運営費補助金所要額見込調書
A4: （その１）
F5: 施設の名称 | G5: =①基礎情報!C13 -> 0
G7: （単位 円）
C8: 一人当たりの | G8: 補助金の額（D
A9: 番号 | B9: 一人当たりの | C9: 寄付金その他 | D9: 一人当たりの | E9: 差引額 | F9: 一人当たりの | G9: とEを比較して | H9: 備考
B10: 補助対象経費 | C10: の収入予定額 | D10: 報酬の予定額 | E10: （A－B－C) | F10: 補助基準額 | G10: 少ない方の額）
B11: A | C11: B | D11: C | E11: D | F11: E | G11: F
A12: 1 | D12: ='②所要額見込調書（その2）'!F28 -> 0 | E12: =MAX(B12-C12-D12,0) -> 0 | F12: =IF('②所要額見込調書（その2）'!K28<0,0,'②所要額見込調書（その2）'!K28) -> 0 | G12: =MIN(E12,F12) -> 0
A13: 2 | D13: ='②所要額見込調書（その2）'!F58 -> 0 | E13: =MAX(B13-C13-D13,0) -> 0 | F13: =IF('②所要額見込調書（その2）'!K58<0,0,'②所要額見込調書（その2）'!K58) -> 0 | G13: =MIN(E13,F13) -> 0
A14: 3 | D14: ='②所要額見込調書（その2）'!F88 -> 0 | E14: =MAX(B14-C14-D14,0) -> 0 | F14: =IF('②所要額見込調書（その2）'!K88<0,0,'②所要額見込調書（その2）'!K88) -> 0 | G14: =MIN(E14,F14) -> 0
A15: 4 | D15: ='②所要額見込調書（その2）'!F118 -> 0 | E15: =MAX(B15-C15-D15,0) -> 0 | F15: =IF('②所要額見込調書（その2）'!K118<0,0,'②所要額見込調書（その2）'!K118) -> 0 | G15: =MIN(E15,F15) -> 0
A16: 5 | D16: ='②所要額見込調書（その2）'!F148 -> 0 | E16: =MAX(B16-C16-D16,0) -> 0 | F16: =IF('②所要額見込調書（その2）'!K148<0,0,'②所要額見込調書（その2）'!K148) -> 0 | G16: =MIN(E16,F16) -> 0
A17: 6 | D17: ='②所要額見込調書（その2）'!F178 -> 0 | E17: =MAX(B17-C17-D17,0) -> 0 | F17: =IF('②所要額見込調書（その2）'!K178<0,0,'②所要額見込調書（その2）'!K178) -> 0 | G17: =MIN(E17,F17) -> 0
A18: 7 | D18: ='②所要額見込調書（その2）'!F208 -> 0 | E18: =MAX(B18-C18-D18,0) -> 0 | F18: =IF('②所要額見込調書（その2）'!K208<0,0,'②所要額見込調書（その2）'!K208) -> 0 | G18: =MIN(E18,F18) -> 0
A19: 合計 | G19: =SUM(G12:G18) -> 0
A21: 注 | G21: =TEXT(G19,"#,###")
A22: １ 補助対象経費とは、運営に要する人件費、事業費、事務費等から入居者が負担する家賃、食材費、光熱水費その他の経費を除いた額。
A23: ２ 他市町村の支給決定を受けている入居者がいる場合には、野田市の支給決定を受けている入居者分を按分して算出してください。
A24: ３ A欄は、人件費及び運営費等から入居者が負担する食材費、家賃、光熱費等を控除した額を記入すること。

Sheet 申請書
H5: 令和 年 月 日
A7: （宛先）野田市長
G9: 所在地 | H9: =①基礎情報!C8 -> 0
F11: 申請者 | G11: 法人名 | H11: =①基礎情報!C9 -> 0
G13: 代表者職氏名 | H13: =①基礎情報!C10 -> 0
C17: 野田市障がい者等グループホーム運営費補助金交付申請書
B19: 野田市障がい者等グループホーム運営費補助金の交付を受けたいので、野田
B21: 市障がい者等グループホーム運営費補助金交付規則第６条の規定により、次
B23: のとおり関係書類を添付して申請します。
B27: １ 施設の名称 | E27: =①基礎情報!C13 -> 0
B29: ２ 交付申請額 | E29: ="金 "&'③所要額見込調書（その１）'!G19&" 円" -> 金 0 円
B31: ３ 添付書類 | E31: 所要額見込調書（その１、その２）

Sheet 予算書
E1: =①基礎情報!C13 -> 0
E2: 入居者数
B3: 令和８年度歳入歳出予算書抄本
B5: 歳入 | F5: （単位 円）
B6: 科 目 | D6: 金 額 | E6: 説 明
B7: 補助金収入
B9: 自立支援給付費
B11: 利用者負担 | D11: =SUM(F12:F15) -> 0 | E11: （利用者負担内訳）
E12: 家賃
E13: 食材費
E14: 光熱水費
E15: その他共益費
B16: 寄付金
B18: その他
B20: 合 計 | D20: =SUM(D7:D19) -> 0
B22: 歳出 | F22: （単位 円）
B23: 科 目 | D23: 金 額 | E23: 説 明
B24: 人件費 | C24: 給与
C25: 諸手当
C26: 福利厚生費
B28: 事業費 | C28: 賃借料
C29: 食材料費
C30: 光熱水費
C31: その他共益費
B33: 事務費 | C33: 什器備品
C34: 消耗品費
C35: 雑費
B37: 合 計 | D37: =SUM(D24:D36) -> 0
B39: 上記のとおり相違ないことを証明します。
B41: 令和 年 月 日
D42: 所在地 | E42: =①基礎情報!C8 -> 0
D43: 法人名 | E43: =①基礎情報!C9 -> 0
D44: 代表者名 | E44: =①基礎情報!C10 -> 0

Sheet 予算書記載例
E1: 【グループホームのだ】
E2: 入居者数 | F2: 5
B3: 令和８年度歳入歳出予算書抄本
B5: 歳入 | F5: （単位：円）
B6: 科 目 | D6: 金 額 | E6: 説 明
B7: 補助金収入 | D7: 1086000 | E7: 千葉県運営費補助（開設支援費）
B9: 自立支援給付費 | D9: 3066000
B11: 利用者負担 | D11: 3120000 | E11: （利用者負担内訳）
E12: 家賃 | F12: 960000
E13: 食材費 | F13: 1500000
E14: 光熱水費 | F14: 516000
E15: その他共益費 | F15: 144000
B16: 寄付金 | D16: 0
B18: その他 | D18: 200000
B20: 合 計 | D20: =SUM(D7:D19) -> 7472000
B22: 歳出
B23: 科 目 | D23: 金 額 | E23: 説 明
B24: 人件費 | C24: 給与 | D24: 2800000
C25: 諸手当 | D25: 350000
C26: 福利厚生費 | D26: 240000
B28: 事業費 | C28: 賃借料 | D28: 1800000
C29: 食材料費 | D29: 1500000
C30: 光熱水費 | D30: 516000
C31: その他共益費 | D31: 144000
B33: 事務費 | C33: 什器備品 | D33: 60000
C34: 消耗品費 | D34: 50000
C35: 雑費 | D35: 12000
B37: 合 計 | D37: =SUM(D24:D36) -> 7472000
B39: 上記のとおり相違ないことを証明します。
B41: 令和 年 月 日
D42: 所在地 | E42: 野田市鶴奉７番地の１
D43: 法人名 | E43: 社会福祉法人 のだ
D44: 代表者名 | E44: 代表 関宿 一郎
B46: ※法人全体の予算ではなく、申請されるグループホーム単体の予算で作成してください。

Sheet 補助基準額リスト
A1: 区分 | B1: 定員 | C1: 人員配置体制加算 | D1: Vlookup用コード | E1: 補助基準額
A2: 0 | B2: 1 | C2: 12 | D2: =A2&B2&G2 -> 0112 | E2: 108000 | G2: =IFERROR(IF(C2=12,12,IF(C2=30,30,IF(C2=なし,0,""))),) -> 12 | J2: {=_xlfn.IFS(#REF!=12,12,#REF!=30,30,#REF!="なし",0)} -> #REF!
A3: 1 | B3: 1 | C3: 12 | D3: =A3&B3&G3 -> 1112 | E3: 108000 | G3: =IFERROR(IF(C3=12,12,IF(C3=30,30,IF(C3=なし,0,""))),) -> 12 | J3: {=_xlfn.IFS(#REF!=12,12,#REF!=30,30,#REF!="なし",0)} -> #REF!
A4: 2 | B4: 1 | C4: 12 | D4: =A4&B4&G4 -> 2112 | E4: 122000 | G4: =IFERROR(IF(C4=12,12,IF(C4=30,30,IF(C4=なし,0,""))),) -> 12 | J4: {=_xlfn.IFS(#REF!=12,12,#REF!=30,30,#REF!="なし",0)} -> #REF!
A5: 3 | B5: 1 | C5: 12 | D5: =A5&B5&G5 -> 3112 | E5: 127000 | G5: =IFERROR(IF(C5=12,12,IF(C5=30,30,IF(C5=なし,0,""))),) -> 12 | J5: {=_xlfn.IFS(#REF!=12,12,#REF!=30,30,#REF!="なし",0)} -> #REF!
A6: 4 | B6: 1 | C6: 12 | D6: =A6&B6&G6 -> 4112 | E6: 151000 | G6: =IFERROR(IF(C6=12,12,IF(C6=30,30,IF(C6=なし,0,""))),) -> 12 | J6: {=_xlfn.IFS(#REF!=12,12,#REF!=30,30,#REF!="なし",0)} -> #REF!
A7: 5 | B7: 1 | C7: 12 | D7: =A7&B7&G7 -> 5112 | E7: 188000 | G7: =IFERROR(IF(C7=12,12,IF(C7=30,30,IF(C7=なし,0,""))),) -> 12 | J7: {=_xlfn.IFS(#REF!=12,12,#REF!=30,30,#REF!="なし",0)} -> #REF!
A8: 6 | B8: 1 | C8: 12 | D8: =A8&B8&G8 -> 6112 | E8: 227000 | G8: =IFERROR(IF(C8=12,12,IF(C8=30,30,IF(C8=なし,0,""))),) -> 12 | J8: {=_xlfn.IFS(#REF!=12,12,#REF!=30,30,#REF!="なし",0)} -> #REF!
A9: 0 | B9: 2 | C9: 12 | D9: =A9&B9&G9 -> 0212 | E9: 108000 | G9: =IFERROR(IF(C9=12,12,IF(C9=30,30,IF(C9=なし,0,""))),) -> 12 | J9: {=_xlfn.IFS(#REF!=12,12,#REF!=30,30,#REF!="なし",0)} -> #REF!
A10: 1 | B10: 2 | C10: 12 | D10: =A10&B10&G10 -> 1212 | E10: 108000 | G10: =IFERROR(IF(C10=12,12,IF(C10=30,30,IF(C10=なし,0,""))),) -> 12 | J10: {=_xlfn.IFS(#REF!=12,12,#REF!=30,30,#REF!="なし",0)} -> #REF!
A11: 2 | B11: 2 | C11: 12 | D11: =A11&B11&G11 -> 2212 | E11: 122000 | G11: =IFERROR(IF(C11=12,12,IF(C11=30,30,IF(C11=なし,0,""))),) -> 12 | J11: {=_xlfn.IFS(#REF!=12,12,#REF!=30,30,#REF!="なし",0)} -> #REF!
A12: 3 | B12: 2 | C12: 12 | D12: =A12&B12&G12 -> 3212 | E12: 127000 | G12: =IFERROR(IF(C12=12,12,IF(C12=30,30,IF(C12=なし,0,""))),) -> 12 | J12: {=_xlfn.IFS(#REF!=12,12,#REF!=30,30,#REF!="なし",0)} -> #REF!
A13: 4 | B13: 2 | C13: 12 | D13: =A13&B13&G13 -> 4212 | E13: 151000 | G13: =IFERROR(IF(C13=12,12,IF(C13=30,30,IF(C13=なし,0,""))),) -> 12 | J13: {=_xlfn.IFS(#REF!=12,12,#REF!=30,30,#REF!="なし",0)} -> #REF!
... A85: 6 | B85: 6 | C85: 30 | D85: =A85&B85&G85 -> 6630 | E85: 196000 | G85: =IFERROR(IF(C85=12,12,IF(C85=30,30,IF(C85=なし,0,""))),) -> 30 | J85: {=_xlfn.IFS(#REF!=12,12,#REF!=30,30,#REF!="なし",0)} -> #REF!
A86: 0 | B86: 1 | C86: なし | D86: =A86&B86&G86 -> 010 | E86: 85000 | G86: =IFERROR(IF(C86=12,12,IF(C86=30,30,IF(C86=なし,0,""))),) -> 0 | J86: {=_xlfn.IFS(#REF!=12,12,#REF!=30,30,#REF!="なし",0)} -> #REF!
A87: 1 | B87: 1 | C87: なし | D87: =A87&B87&G87 -> 110 | E87: 85000 | G87: =IFERROR(IF(C87=12,12,IF(C87=30,30,IF(C87=なし,0,""))),) -> 0 | J87: {=_xlfn.IFS(#REF!=12,12,#REF!=30,30,#REF!="なし",0)} -> #REF!
A88: 2 | B88: 1 | C88: なし | D88: =A88&B88&G88 -> 210 | E88: 97000 | G88: =IFERROR(IF(C88=12,12,IF(C88=30,30,IF(C88=なし,0,""))),) -> 0 | J88: {=_xlfn.IFS(#REF!=12,12,#REF!=30,30,#REF!="なし",0)} -> #REF!
A89: 3 | B89: 1 | C89: なし | D89: =A89&B89&G89 -> 310 | E89: 102000 | G89: =IFERROR(IF(C89=12,12,IF(C89=30,30,IF(C89=なし,0,""))),) -> 0 | J89: {=_xlfn.IFS(#REF!=12,12,#REF!=30,30,#REF!="なし",0)} -> #REF!
A90: 4 | B90: 1 | C90: なし | D90: =A90&B90&G90 -> 410 | E90: 126000 | G90: =IFERROR(IF(C90=12,12,IF(C90=30,30,IF(C90=なし,0,""))),) -> 0 | J90: {=_xlfn.IFS(#REF!=12,12,#REF!=30,30,#REF!="なし",0)} -> #REF!
A91: 5 | B91: 1 | C91: なし | D91: =A91&B91&G91 -> 510 | E91: 162000 | G91: =IFERROR(IF(C91=12,12,IF(C91=30,30,IF(C91=なし,0,""))),) -> 0 | J91: {=_xlfn.IFS(#REF!=12,12,#REF!=30,30,#REF!="なし",0)} -> #REF!
A92: 6 | B92: 1 | C92: なし | D92: =A92&B92&G92 -> 610 | E92: 203000 | G92: =IFERROR(IF(C92=12,12,IF(C92=30,30,IF(C92=なし,0,""))),) -> 0 | J92: {=_xlfn.IFS(#REF!=12,12,#REF!=30,30,#REF!="なし",0)} -> #REF!
A93: 0 | B93: 2 | C93: なし | D93: =A93&B93&G93 -> 020 | E93: 85000 | G93: =IFERROR(IF(C93=12,12,IF(C93=30,30,IF(C93=なし,0,""))),) -> 0 | J93: {=_xlfn.IFS(#REF!=12,12,#REF!=30,30,#REF!="なし",0)} -> #REF!
A94: 1 | B94: 2 | C94: なし | D94: =A94&B94&G94 -> 120 | E94: 85000 | G94: =IFERROR(IF(C94=12,12,IF(C94=30,30,IF(C94=なし,0,""))),) -> 0 | J94: {=_xlfn.IFS(#REF!=12,12,#REF!=30,30,#REF!="なし",0)} -> #REF!
A95: 2 | B95: 2 | C95: なし | D95: =A95&B95&G95 -> 220 | E95: 97000 | G95: =IFERROR(IF(C95=12,12,IF(C95=30,30,IF(C95=なし,0,""))),) -> 0 | J95: {=_xlfn.IFS(#REF!=12,12,#REF!=30,30,#REF!="なし",0)} -> #REF!
A96: 3 | B96: 2 | C96: なし | D96: =A96&B96&G96 -> 320 | E96: 102000 | G96: =IFERROR(IF(C96=12,12,IF(C96=30,30,IF(C96=なし,0,""))),) -> 0 | J96: {=_xlfn.IFS(#REF!=12,12,#REF!=30,30,#REF!="なし",0)} -> #REF!
A97: 4 | B97: 2 | C97: なし | D97: =A97&B97&G97 -> 420 | E97: 126000 | G97: =IFERROR(IF(C97=12,12,IF(C97=30,30,IF(C97=なし,0,""))),) -> 0 | J97: {=_xlfn.IFS(#REF!=12,12,#REF!=30,30,#REF!="なし",0)} -> #REF!
... A127: 6 | B127: 6 | C127: なし | D127: =A127&B127&G127 -> 660 | E127: 186000 | G127: =IFERROR(IF(C127=12,12,IF(C127=30,30,IF(C127=なし,0,""))),) -> 0 | J127: {=_xlfn.IFS(#REF!=12,12,#REF!=30,30,#REF!="なし",0)} -> #REF!

Sheet 提出不要
A1: 財源内訳表（予算）
A2: =①基礎情報!C13 -> 0
A3: ＜歳入＞ | D3: 単位：円
A4: 科目 | C4: ホーム運営費
A5: 款 | B5: 項 | C5: 予算
A6: 事業費 | B6: 補助金収入 | C6: ='③所要額見込調書（その１）'!G19 -> 0
B7: 自立支援給付費 | C7: =SUM('③所要額見込調書（その１）'!D12:D18) -> 0
B8: 利用者負担 | C8: =予算書!D11 -> 0
B9: 寄付金 | C9: =予算書!D16 -> 0
B10: その他 | C10: =予算書!D18 -> 0
B11: 小計 | C11: =SUM(C6:D10) -> 0
A13: ＜歳出＞ | K13: 単位：円
A14: 科目 | C14: ホーム運営費
A15: 款 | B15: 項 | C15: 予算 | D15: 財源内訳
D16: =B6 -> 補助金収入 | F16: 自立支援給付費 | H16: 利用者負担 | J16: その他
A17: 事業費 | B17: 人件費 | C17: =SUM(予算書!D24:D26) -> 0
B18: 事業費 | C18: =SUM(予算書!D28:D31) -> 0
B19: 事務費 | C19: =SUM(予算書!D33:D35) -> 0
B20: 小計 | C20: =SUM(C17:C19) -> 0 | D20: =SUM(D17:E19) -> 0 | F20: =SUM(F17:G19) -> 0 | H20: =SUM(H17:I19) -> 0 | J20: =SUM(J17:K19) -> 0
